BEGIN:VCALENDAR
VERSION:2.0
PRODID:-//NADI Kg Hilir Oya - ECPv6.15.20//NONSGML v1.0//EN
CALSCALE:GREGORIAN
METHOD:PUBLISH
X-WR-CALNAME:NADI Kg Hilir Oya
X-ORIGINAL-URL:https://kghiliroya.nadi.my
X-WR-CALDESC:Events for NADI Kg Hilir Oya
REFRESH-INTERVAL;VALUE=DURATION:PT1H
X-Robots-Tag:noindex
X-PUBLISHED-TTL:PT1H
BEGIN:VTIMEZONE
TZID:Asia/Kuala_Lumpur
BEGIN:STANDARD
TZOFFSETFROM:+0800
TZOFFSETTO:+0800
TZNAME:+08
DTSTART:20240101T000000
END:STANDARD
END:VTIMEZONE
BEGIN:VEVENT
DTSTART;TZID=Asia/Kuala_Lumpur:20250308T080000
DTEND;TZID=Asia/Kuala_Lumpur:20250308T160000
DTSTAMP:20260426T083520
CREATED:20250307T034910Z
LAST-MODIFIED:20250307T034910Z
UID:2529-1741420800-1741449600@kghiliroya.nadi.my
SUMMARY:KELAS KESEDARAN (LMS)
DESCRIPTION:
URL:https://kghiliroya.nadi.my/event/kelas-kesedaran-lms/
LOCATION:NADI OYA\, NO 22 KG KUALA HILIR OYA\, DALAT\, Malaysia
END:VEVENT
BEGIN:VEVENT
DTSTART;TZID=Asia/Kuala_Lumpur:20250308T100000
DTEND;TZID=Asia/Kuala_Lumpur:20250308T113000
DTSTAMP:20260426T083520
CREATED:20250307T033438Z
LAST-MODIFIED:20250307T033438Z
UID:2524-1741428000-1741433400@kghiliroya.nadi.my
SUMMARY:WEBINAR NADI CYBERSECURITY
DESCRIPTION:Webinar Keselamatan Siber dalam eSport: Lindungi Akaun dan Reputasi Anda : \nDalam dunia eSports yang kompetitif\, ancaman siber seperti penggodaman akaun\, penipuan dalam permainan\, dan pencurian identiti semakin meningkat. Webinar ini akan membimbing pemain eSports tentang cara melindungi akaun\, data peribadi\, dan reputasi dalam talian. \nGolongan Sasaran: \nØ  Terbuka kepada semua peringkat umur yang melayari eSport atau berminat untuk mengetahui keselamatan siber dalam eSport. \nPlatform   : Google Meet \nPautan : https://meet.google.com/ioz-bbkz-pfq \nPlatform Alternatif  :  Facebook Live NADI Official \n *Nota : Sila cuba masuk google meet terlebih dahulu sekiranya penuh  baru pergi ke Facebook NADI Official \n 
URL:https://kghiliroya.nadi.my/event/webinar-nadi-cybersecurity/
LOCATION:NADI OYA\, NO 22 KG KUALA HILIR OYA\, DALAT\, Malaysia
END:VEVENT
BEGIN:VEVENT
DTSTART;TZID=Asia/Kuala_Lumpur:20250308T100000
DTEND;TZID=Asia/Kuala_Lumpur:20250308T120000
DTSTAMP:20260426T083520
CREATED:20250307T034207Z
LAST-MODIFIED:20250307T034207Z
UID:2526-1741428000-1741435200@kghiliroya.nadi.my
SUMMARY:BENGKEL PYTHON - TINY TECHIES
DESCRIPTION:TERBUKA KEPADA SEKOLAH MENENGAH BERUMUR 16 -17 TAHUN
URL:https://kghiliroya.nadi.my/event/bengkel-python-tiny-techies/
LOCATION:NADI OYA\, NO 22 KG KUALA HILIR OYA\, DALAT\, Malaysia
END:VEVENT
BEGIN:VEVENT
DTSTART;TZID=Asia/Kuala_Lumpur:20250308T103000
DTEND;TZID=Asia/Kuala_Lumpur:20250308T110000
DTSTAMP:20260426T083520
CREATED:20250302T052426Z
LAST-MODIFIED:20250302T052426Z
UID:2496-1741429800-1741431600@kghiliroya.nadi.my
SUMMARY:NADI X CYBERSECURITY
DESCRIPTION:
URL:https://kghiliroya.nadi.my/event/nadi-x-cybersecurity/
LOCATION:NADI OYA\, NO 22 KG KUALA HILIR OYA\, DALAT\, Malaysia
END:VEVENT
END:VCALENDAR