BEGIN:VCALENDAR
VERSION:2.0
PRODID:-//NADI Kg Hilir Oya - ECPv6.15.20//NONSGML v1.0//EN
CALSCALE:GREGORIAN
METHOD:PUBLISH
X-WR-CALNAME:NADI Kg Hilir Oya
X-ORIGINAL-URL:https://kghiliroya.nadi.my
X-WR-CALDESC:Events for NADI Kg Hilir Oya
REFRESH-INTERVAL;VALUE=DURATION:PT1H
X-Robots-Tag:noindex
X-PUBLISHED-TTL:PT1H
BEGIN:VTIMEZONE
TZID:Asia/Kuala_Lumpur
BEGIN:STANDARD
TZOFFSETFROM:+0800
TZOFFSETTO:+0800
TZNAME:+08
DTSTART:20240101T000000
END:STANDARD
END:VTIMEZONE
BEGIN:VEVENT
DTSTART;TZID=Asia/Kuala_Lumpur:20250823T143000
DTEND;TZID=Asia/Kuala_Lumpur:20250823T170000
DTSTAMP:20260424T000757
CREATED:20250822T022942Z
LAST-MODIFIED:20250822T022942Z
UID:2856-1755959400-1755968400@kghiliroya.nadi.my
SUMMARY:WEBINAR MOTIVASI PELAJAR
DESCRIPTION:
URL:https://kghiliroya.nadi.my/event/webinar-motivasi-pelajar/
END:VEVENT
END:VCALENDAR