BEGIN:VCALENDAR
VERSION:2.0
PRODID:-//NADI Kg Hilir Oya - ECPv6.15.20//NONSGML v1.0//EN
CALSCALE:GREGORIAN
METHOD:PUBLISH
X-WR-CALNAME:NADI Kg Hilir Oya
X-ORIGINAL-URL:https://kghiliroya.nadi.my
X-WR-CALDESC:Events for NADI Kg Hilir Oya
REFRESH-INTERVAL;VALUE=DURATION:PT1H
X-Robots-Tag:noindex
X-PUBLISHED-TTL:PT1H
BEGIN:VTIMEZONE
TZID:Asia/Kuala_Lumpur
BEGIN:STANDARD
TZOFFSETFROM:+0800
TZOFFSETTO:+0800
TZNAME:+08
DTSTART:20240101T000000
END:STANDARD
END:VTIMEZONE
BEGIN:VEVENT
DTSTART;TZID=Asia/Kuala_Lumpur:20250904T153000
DTEND;TZID=Asia/Kuala_Lumpur:20250904T163000
DTSTAMP:20260423T165903
CREATED:20250903T024352Z
LAST-MODIFIED:20250903T024352Z
UID:2892-1756999800-1757003400@kghiliroya.nadi.my
SUMMARY:Dilea open tuition : Bahasa Melayu (form 1 - form 5)
DESCRIPTION:
URL:https://kghiliroya.nadi.my/event/dilea-open-tuition-bahasa-melayu-form-1-form-5/
END:VEVENT
END:VCALENDAR