BEGIN:VCALENDAR
VERSION:2.0
PRODID:-//NADI Kg Hilir Oya - ECPv6.15.20//NONSGML v1.0//EN
CALSCALE:GREGORIAN
METHOD:PUBLISH
X-WR-CALNAME:NADI Kg Hilir Oya
X-ORIGINAL-URL:https://kghiliroya.nadi.my
X-WR-CALDESC:Events for NADI Kg Hilir Oya
REFRESH-INTERVAL;VALUE=DURATION:PT1H
X-Robots-Tag:noindex
X-PUBLISHED-TTL:PT1H
BEGIN:VTIMEZONE
TZID:Asia/Kuala_Lumpur
BEGIN:STANDARD
TZOFFSETFROM:+0800
TZOFFSETTO:+0800
TZNAME:+08
DTSTART:20240101T000000
END:STANDARD
END:VTIMEZONE
BEGIN:VEVENT
DTSTART;TZID=Asia/Kuala_Lumpur:20251002T080000
DTEND;TZID=Asia/Kuala_Lumpur:20251002T170000
DTSTAMP:20260422T144830
CREATED:20251001T065910Z
LAST-MODIFIED:20251001T065910Z
UID:2961-1759392000-1759424400@kghiliroya.nadi.my
SUMMARY:Wellbeing - Podcast
DESCRIPTION:
URL:https://kghiliroya.nadi.my/event/wellbeing-podcast/
END:VEVENT
END:VCALENDAR