BEGIN:VCALENDAR
VERSION:2.0
PRODID:-//NADI Kg Hilir Oya - ECPv6.15.20//NONSGML v1.0//EN
CALSCALE:GREGORIAN
METHOD:PUBLISH
X-WR-CALNAME:NADI Kg Hilir Oya
X-ORIGINAL-URL:https://kghiliroya.nadi.my
X-WR-CALDESC:Events for NADI Kg Hilir Oya
REFRESH-INTERVAL;VALUE=DURATION:PT1H
X-Robots-Tag:noindex
X-PUBLISHED-TTL:PT1H
BEGIN:VTIMEZONE
TZID:Asia/Kuala_Lumpur
BEGIN:STANDARD
TZOFFSETFROM:+0800
TZOFFSETTO:+0800
TZNAME:+08
DTSTART:20240101T000000
END:STANDARD
END:VTIMEZONE
BEGIN:VEVENT
DTSTART;TZID=Asia/Kuala_Lumpur:20250613T153000
DTEND;TZID=Asia/Kuala_Lumpur:20250613T170000
DTSTAMP:20260424T045842
CREATED:20250606T005726Z
LAST-MODIFIED:20250606T005726Z
UID:2715-1749828600-1749834000@kghiliroya.nadi.my
SUMMARY:Webinar Cybersecurity
DESCRIPTION:
URL:https://kghiliroya.nadi.my/event/webinar-cybersecurity/
LOCATION:NADI OYA\, NO 22 KG KUALA HILIR OYA\, DALAT\, Malaysia
END:VEVENT
BEGIN:VEVENT
DTSTART;TZID=Asia/Kuala_Lumpur:20250614T120000
DTEND;TZID=Asia/Kuala_Lumpur:20250614T140000
DTSTAMP:20260424T045842
CREATED:20250611T075255Z
LAST-MODIFIED:20250611T075255Z
UID:2735-1749902400-1749909600@kghiliroya.nadi.my
SUMMARY:Edisi Khas Mahir Masak
DESCRIPTION:Rasa Warisan Nyonya Asli Bersama Chef Florence Tan \nPlatform: Siaran langsung di Youtube Studio Mahir NADI
URL:https://kghiliroya.nadi.my/event/edisi-khas-mahir-masak/
LOCATION:NADI OYA\, NO 22 KG KUALA HILIR OYA\, DALAT\, Malaysia
END:VEVENT
BEGIN:VEVENT
DTSTART;TZID=Asia/Kuala_Lumpur:20250621T143000
DTEND;TZID=Asia/Kuala_Lumpur:20250621T163000
DTSTAMP:20260424T045842
CREATED:20250611T064302Z
LAST-MODIFIED:20250611T064321Z
UID:2732-1750516200-1750523400@kghiliroya.nadi.my
SUMMARY:Webinar Berkala Matematik Edisi Kedua
DESCRIPTION:terbuka kepada pelajar Tingkatan 4 dan 5
URL:https://kghiliroya.nadi.my/event/webinar-berkala-matematik-edisi-kedua/
LOCATION:NADI OYA\, NO 22 KG KUALA HILIR OYA\, DALAT\, Malaysia
END:VEVENT
BEGIN:VEVENT
DTSTART;TZID=Asia/Kuala_Lumpur:20250626T143000
DTEND;TZID=Asia/Kuala_Lumpur:20250626T153000
DTSTAMP:20260424T045842
CREATED:20250624T073135Z
LAST-MODIFIED:20250624T073135Z
UID:2741-1750948200-1750951800@kghiliroya.nadi.my
SUMMARY:KELAS MAHIR BAIKI GAJET
DESCRIPTION: KELAS SHORT LEARNING SERIES (SLS) NADI MAHIR MAHIR BAIKI GAJET: Tak Kenal Maka Tak Cinta — Jom Kenal Komputer! 26 Jun 2025 (Khamis) 2.30 – 3.30 PM
URL:https://kghiliroya.nadi.my/event/kelas-mahir-baiki-gajet/
LOCATION:NADI OYA\, NO 22 KG KUALA HILIR OYA\, DALAT\, Malaysia
END:VEVENT
END:VCALENDAR