BEGIN:VCALENDAR
VERSION:2.0
PRODID:-//NADI Kg Hilir Oya - ECPv6.15.20//NONSGML v1.0//EN
CALSCALE:GREGORIAN
METHOD:PUBLISH
X-WR-CALNAME:NADI Kg Hilir Oya
X-ORIGINAL-URL:https://kghiliroya.nadi.my
X-WR-CALDESC:Events for NADI Kg Hilir Oya
REFRESH-INTERVAL;VALUE=DURATION:PT1H
X-Robots-Tag:noindex
X-PUBLISHED-TTL:PT1H
BEGIN:VTIMEZONE
TZID:Asia/Kuala_Lumpur
BEGIN:STANDARD
TZOFFSETFROM:+0800
TZOFFSETTO:+0800
TZNAME:+08
DTSTART:20240101T000000
END:STANDARD
END:VTIMEZONE
BEGIN:VEVENT
DTSTART;TZID=Asia/Kuala_Lumpur:20250704T153000
DTEND;TZID=Asia/Kuala_Lumpur:20250704T163000
DTSTAMP:20260424T022730
CREATED:20250702T065111Z
LAST-MODIFIED:20250702T065111Z
UID:2770-1751643000-1751646600@kghiliroya.nadi.my
SUMMARY:DILEA: Open Class-Kelas Sejarah
DESCRIPTION:
URL:https://kghiliroya.nadi.my/event/dilea-open-class-kelas-sejarah/
LOCATION:NADI OYA\, NO 22 KG KUALA HILIR OYA\, DALAT\, Malaysia
END:VEVENT
BEGIN:VEVENT
DTSTART;TZID=Asia/Kuala_Lumpur:20250705T080000
DTEND;TZID=Asia/Kuala_Lumpur:20250705T170000
DTSTAMP:20260424T022730
CREATED:20250702T065305Z
LAST-MODIFIED:20250702T065305Z
UID:2772-1751702400-1751734800@kghiliroya.nadi.my
SUMMARY:Kidventure: Pemasaran
DESCRIPTION:tonton video 3
URL:https://kghiliroya.nadi.my/event/kidventure-pemasaran/
LOCATION:NADI OYA\, NO 22 KG KUALA HILIR OYA\, DALAT\, Malaysia
END:VEVENT
BEGIN:VEVENT
DTSTART;TZID=Asia/Kuala_Lumpur:20250707T143000
DTEND;TZID=Asia/Kuala_Lumpur:20250707T160000
DTSTAMP:20260424T022730
CREATED:20250624T074529Z
LAST-MODIFIED:20250624T074529Z
UID:2743-1751898600-1751904000@kghiliroya.nadi.my
SUMMARY:JOM BELAJAR JAHIT TOTE BAG
DESCRIPTION:
URL:https://kghiliroya.nadi.my/event/jom-belajar-jahit-tote-bag/
LOCATION:NADI OYA\, NO 22 KG KUALA HILIR OYA\, DALAT\, Malaysia
END:VEVENT
BEGIN:VEVENT
DTSTART;TZID=Asia/Kuala_Lumpur:20250710T080000
DTEND;TZID=Asia/Kuala_Lumpur:20250710T170000
DTSTAMP:20260424T022730
CREATED:20250702T065413Z
LAST-MODIFIED:20250702T065413Z
UID:2774-1752134400-1752166800@kghiliroya.nadi.my
SUMMARY:Cybersecurity
DESCRIPTION:
URL:https://kghiliroya.nadi.my/event/cybersecurity/
LOCATION:NADI OYA\, NO 22 KG KUALA HILIR OYA\, DALAT\, Malaysia
END:VEVENT
BEGIN:VEVENT
DTSTART;TZID=Asia/Kuala_Lumpur:20250712T080000
DTEND;TZID=Asia/Kuala_Lumpur:20250712T170000
DTSTAMP:20260424T022730
CREATED:20250702T065519Z
LAST-MODIFIED:20250702T065519Z
UID:2776-1752307200-1752339600@kghiliroya.nadi.my
SUMMARY:Kidventure: Operasi perniagaan
DESCRIPTION:tonton video 4
URL:https://kghiliroya.nadi.my/event/kidventure-operasi-perniagaan/
LOCATION:NADI OYA\, NO 22 KG KUALA HILIR OYA\, DALAT\, Malaysia
END:VEVENT
BEGIN:VEVENT
DTSTART;TZID=Asia/Kuala_Lumpur:20250718T153000
DTEND;TZID=Asia/Kuala_Lumpur:20250718T163000
DTSTAMP:20260424T022730
CREATED:20250702T065650Z
LAST-MODIFIED:20250702T065650Z
UID:2778-1752852600-1752856200@kghiliroya.nadi.my
SUMMARY:DILEA: Open class - Bahasa Melayu
DESCRIPTION:
URL:https://kghiliroya.nadi.my/event/dilea-open-class-bahasa-melayu/
END:VEVENT
BEGIN:VEVENT
DTSTART;TZID=Asia/Kuala_Lumpur:20250719T080000
DTEND;TZID=Asia/Kuala_Lumpur:20250719T170000
DTSTAMP:20260424T022730
CREATED:20250702T065842Z
LAST-MODIFIED:20250702T065842Z
UID:2780-1752912000-1752944400@kghiliroya.nadi.my
SUMMARY:Kidventure: Webinar 3- Pemasaran
DESCRIPTION:
URL:https://kghiliroya.nadi.my/event/kidventure-webinar-3-pemasaran/
LOCATION:NADI OYA\, NO 22 KG KUALA HILIR OYA\, DALAT\, Malaysia
END:VEVENT
BEGIN:VEVENT
DTSTART;TZID=Asia/Kuala_Lumpur:20250721T150000
DTEND;TZID=Asia/Kuala_Lumpur:20250721T170000
DTSTAMP:20260424T022730
CREATED:20250716T022016Z
LAST-MODIFIED:20250716T022016Z
UID:2805-1753110000-1753117200@kghiliroya.nadi.my
SUMMARY:Webinar SAFE & SHIELDS
DESCRIPTION:
URL:https://kghiliroya.nadi.my/event/webinar-safe-shields/
LOCATION:NADI OYA\, NO 22 KG KUALA HILIR OYA\, DALAT\, Malaysia
END:VEVENT
BEGIN:VEVENT
DTSTART;TZID=Asia/Kuala_Lumpur:20250724T080000
DTEND;TZID=Asia/Kuala_Lumpur:20250724T170000
DTSTAMP:20260424T022730
CREATED:20250702T065938Z
LAST-MODIFIED:20250702T065938Z
UID:2782-1753344000-1753376400@kghiliroya.nadi.my
SUMMARY:Cybersecurity
DESCRIPTION:
URL:https://kghiliroya.nadi.my/event/cybersecurity-2/
LOCATION:NADI OYA\, NO 22 KG KUALA HILIR OYA\, DALAT\, Malaysia
END:VEVENT
BEGIN:VEVENT
DTSTART;TZID=Asia/Kuala_Lumpur:20250726T080000
DTEND;TZID=Asia/Kuala_Lumpur:20250726T170000
DTSTAMP:20260424T022730
CREATED:20250702T070041Z
LAST-MODIFIED:20250702T070041Z
UID:2784-1753516800-1753549200@kghiliroya.nadi.my
SUMMARY:Kidventures: Webinar 4 - Operasi Perniagaan
DESCRIPTION:
URL:https://kghiliroya.nadi.my/event/kidventures-webinar-4-operasi-perniagaan/
LOCATION:NADI OYA\, NO 22 KG KUALA HILIR OYA\, DALAT\, Malaysia
END:VEVENT
END:VCALENDAR