BEGIN:VCALENDAR
VERSION:2.0
PRODID:-//NADI Kg Hilir Oya - ECPv6.15.20//NONSGML v1.0//EN
CALSCALE:GREGORIAN
METHOD:PUBLISH
X-WR-CALNAME:NADI Kg Hilir Oya
X-ORIGINAL-URL:https://kghiliroya.nadi.my
X-WR-CALDESC:Events for NADI Kg Hilir Oya
REFRESH-INTERVAL;VALUE=DURATION:PT1H
X-Robots-Tag:noindex
X-PUBLISHED-TTL:PT1H
BEGIN:VTIMEZONE
TZID:Asia/Kuala_Lumpur
BEGIN:STANDARD
TZOFFSETFROM:+0800
TZOFFSETTO:+0800
TZNAME:+08
DTSTART:20240101T000000
END:STANDARD
END:VTIMEZONE
BEGIN:VEVENT
DTSTART;TZID=Asia/Kuala_Lumpur:20250801T150000
DTEND;TZID=Asia/Kuala_Lumpur:20250801T163000
DTSTAMP:20260423T111602
CREATED:20250728T075714Z
LAST-MODIFIED:20250728T075714Z
UID:2826-1754060400-1754065800@kghiliroya.nadi.my
SUMMARY:KELAS MAHIR - BAIKI GAJET
DESCRIPTION:
URL:https://kghiliroya.nadi.my/event/kelas-mahir-baiki-gajet-2/
LOCATION:NADI OYA\, NO 22 KG KUALA HILIR OYA\, DALAT\, Malaysia
END:VEVENT
BEGIN:VEVENT
DTSTART;TZID=Asia/Kuala_Lumpur:20250802T143000
DTEND;TZID=Asia/Kuala_Lumpur:20250802T163000
DTSTAMP:20260423T111602
CREATED:20250728T075843Z
LAST-MODIFIED:20250728T075843Z
UID:2828-1754145000-1754152200@kghiliroya.nadi.my
SUMMARY:DILEA: WEBINAR BERKALA SEJARAH TINGKATAN 4 & 5
DESCRIPTION:
URL:https://kghiliroya.nadi.my/event/dilea-webinar-berkala-sejarah-tingkatan-4-5/
LOCATION:NADI OYA\, NO 22 KG KUALA HILIR OYA\, DALAT\, Malaysia
END:VEVENT
BEGIN:VEVENT
DTSTART;TZID=Asia/Kuala_Lumpur:20250805T080000
DTEND;TZID=Asia/Kuala_Lumpur:20250805T120000
DTSTAMP:20260423T111602
CREATED:20250728T080013Z
LAST-MODIFIED:20250728T080013Z
UID:2831-1754380800-1754395200@kghiliroya.nadi.my
SUMMARY:KEMPEN INTERNET SELAMAT DI SK KG TEH MUKAH
DESCRIPTION:
URL:https://kghiliroya.nadi.my/event/kempen-internet-selamat-di-sk-kg-teh-mukah/
END:VEVENT
BEGIN:VEVENT
DTSTART;TZID=Asia/Kuala_Lumpur:20250805T150000
DTEND;TZID=Asia/Kuala_Lumpur:20250805T163000
DTSTAMP:20260423T111602
CREATED:20250728T080133Z
LAST-MODIFIED:20250728T080133Z
UID:2833-1754406000-1754411400@kghiliroya.nadi.my
SUMMARY:KELAS MAHIR JAHIT (K2)
DESCRIPTION:
URL:https://kghiliroya.nadi.my/event/kelas-mahir-jahit-k2/
LOCATION:NADI OYA\, NO 22 KG KUALA HILIR OYA\, DALAT\, Malaysia
END:VEVENT
BEGIN:VEVENT
DTSTART;TZID=Asia/Kuala_Lumpur:20250806T080000
DTEND;TZID=Asia/Kuala_Lumpur:20250806T120000
DTSTAMP:20260423T111602
CREATED:20250728T080345Z
LAST-MODIFIED:20250728T080345Z
UID:2835-1754467200-1754481600@kghiliroya.nadi.my
SUMMARY:KEMPEN INTERNET SELAMAT DI SK MUKAH
DESCRIPTION:
URL:https://kghiliroya.nadi.my/event/kempen-internet-selamat-di-sk-mukah/
END:VEVENT
BEGIN:VEVENT
DTSTART;TZID=Asia/Kuala_Lumpur:20250806T080000
DTEND;TZID=Asia/Kuala_Lumpur:20250806T163000
DTSTAMP:20260423T111602
CREATED:20250728T080542Z
LAST-MODIFIED:20250728T080542Z
UID:2839-1754467200-1754497800@kghiliroya.nadi.my
SUMMARY:KELAS MAHIR FOTO (K3)
DESCRIPTION:
URL:https://kghiliroya.nadi.my/event/kelas-mahir-foto-k3/
LOCATION:NADI OYA\, NO 22 KG KUALA HILIR OYA\, DALAT\, Malaysia
END:VEVENT
BEGIN:VEVENT
DTSTART;TZID=Asia/Kuala_Lumpur:20250806T150000
DTEND;TZID=Asia/Kuala_Lumpur:20250806T163000
DTSTAMP:20260423T111602
CREATED:20250728T080448Z
LAST-MODIFIED:20250728T080448Z
UID:2837-1754492400-1754497800@kghiliroya.nadi.my
SUMMARY:KELAS MAHIR JAHIT (K3)
DESCRIPTION:
URL:https://kghiliroya.nadi.my/event/kelas-mahir-jahit-k3/
LOCATION:NADI OYA\, NO 22 KG KUALA HILIR OYA\, DALAT\, Malaysia
END:VEVENT
BEGIN:VEVENT
DTSTART;TZID=Asia/Kuala_Lumpur:20250822T150000
DTEND;TZID=Asia/Kuala_Lumpur:20250822T170000
DTSTAMP:20260423T111602
CREATED:20250822T022017Z
LAST-MODIFIED:20250822T022017Z
UID:2854-1755874800-1755882000@kghiliroya.nadi.my
SUMMARY:REVISION OPEN TUITION TINGKATAN 2 / TINGKATAN 3
DESCRIPTION:
URL:https://kghiliroya.nadi.my/event/revision-open-tuition-tingkatan-2-tingkatan-3/
END:VEVENT
BEGIN:VEVENT
DTSTART;TZID=Asia/Kuala_Lumpur:20250823T143000
DTEND;TZID=Asia/Kuala_Lumpur:20250823T170000
DTSTAMP:20260423T111602
CREATED:20250822T022942Z
LAST-MODIFIED:20250822T022942Z
UID:2856-1755959400-1755968400@kghiliroya.nadi.my
SUMMARY:WEBINAR MOTIVASI PELAJAR
DESCRIPTION:
URL:https://kghiliroya.nadi.my/event/webinar-motivasi-pelajar/
END:VEVENT
BEGIN:VEVENT
DTSTART;TZID=Asia/Kuala_Lumpur:20250825T080000
DTEND;TZID=Asia/Kuala_Lumpur:20250825T170000
DTSTAMP:20260423T111602
CREATED:20250822T023929Z
LAST-MODIFIED:20250822T025951Z
UID:2858-1756108800-1756141200@kghiliroya.nadi.my
SUMMARY:Kempen Internet Selamat (KIS) SJK EK HUA MUKAH
DESCRIPTION:
URL:https://kghiliroya.nadi.my/event/webinar-e-sport/
END:VEVENT
BEGIN:VEVENT
DTSTART;TZID=Asia/Kuala_Lumpur:20250826T080000
DTEND;TZID=Asia/Kuala_Lumpur:20250826T170000
DTSTAMP:20260423T111602
CREATED:20250825T014307Z
LAST-MODIFIED:20250825T014307Z
UID:2866-1756195200-1756227600@kghiliroya.nadi.my
SUMMARY:PRENEUR PODCAST
DESCRIPTION:
URL:https://kghiliroya.nadi.my/event/preneur-podcast/
END:VEVENT
BEGIN:VEVENT
DTSTART;TZID=Asia/Kuala_Lumpur:20250826T150000
DTEND;TZID=Asia/Kuala_Lumpur:20250826T160000
DTSTAMP:20260423T111602
CREATED:20250825T014413Z
LAST-MODIFIED:20250825T014413Z
UID:2868-1756220400-1756224000@kghiliroya.nadi.my
SUMMARY:MAHIR JAHIT (KELAS 2)
DESCRIPTION:
URL:https://kghiliroya.nadi.my/event/mahir-jahit-kelas-2/
LOCATION:NADI OYA\, NO 22 KG KUALA HILIR OYA\, DALAT\, Malaysia
END:VEVENT
BEGIN:VEVENT
DTSTART;TZID=Asia/Kuala_Lumpur:20250827T080000
DTEND;TZID=Asia/Kuala_Lumpur:20250827T110000
DTSTAMP:20260423T111602
CREATED:20250825T014541Z
LAST-MODIFIED:20250825T014541Z
UID:2870-1756281600-1756292400@kghiliroya.nadi.my
SUMMARY:Kempen Internet Selamat - SMK MUKAH
DESCRIPTION:
URL:https://kghiliroya.nadi.my/event/kempen-internet-selamat-smk-mukah/
LOCATION:NADI OYA\, NO 22 KG KUALA HILIR OYA\, DALAT\, Malaysia
END:VEVENT
BEGIN:VEVENT
DTSTART;TZID=Asia/Kuala_Lumpur:20250827T150000
DTEND;TZID=Asia/Kuala_Lumpur:20250827T163000
DTSTAMP:20260423T111602
CREATED:20250825T014643Z
LAST-MODIFIED:20250825T014643Z
UID:2872-1756306800-1756312200@kghiliroya.nadi.my
SUMMARY:MAHIR JAHIT - KELAS 3
DESCRIPTION:
URL:https://kghiliroya.nadi.my/event/mahir-jahit-kelas-3/
LOCATION:NADI OYA\, NO 22 KG KUALA HILIR OYA\, DALAT\, Malaysia
END:VEVENT
END:VCALENDAR