BEGIN:VCALENDAR
VERSION:2.0
PRODID:-//NADI Kg Hilir Oya - ECPv6.15.20//NONSGML v1.0//EN
CALSCALE:GREGORIAN
METHOD:PUBLISH
X-WR-CALNAME:NADI Kg Hilir Oya
X-ORIGINAL-URL:https://kghiliroya.nadi.my
X-WR-CALDESC:Events for NADI Kg Hilir Oya
REFRESH-INTERVAL;VALUE=DURATION:PT1H
X-Robots-Tag:noindex
X-PUBLISHED-TTL:PT1H
BEGIN:VTIMEZONE
TZID:Asia/Kuala_Lumpur
BEGIN:STANDARD
TZOFFSETFROM:+0800
TZOFFSETTO:+0800
TZNAME:+08
DTSTART:20240101T000000
END:STANDARD
END:VTIMEZONE
BEGIN:VEVENT
DTSTART;TZID=Asia/Kuala_Lumpur:20251002T080000
DTEND;TZID=Asia/Kuala_Lumpur:20251002T170000
DTSTAMP:20260422T144830
CREATED:20251001T065910Z
LAST-MODIFIED:20251001T065910Z
UID:2961-1759392000-1759424400@kghiliroya.nadi.my
SUMMARY:Wellbeing - Podcast
DESCRIPTION:
URL:https://kghiliroya.nadi.my/event/wellbeing-podcast/
END:VEVENT
BEGIN:VEVENT
DTSTART;TZID=Asia/Kuala_Lumpur:20251003T103000
DTEND;TZID=Asia/Kuala_Lumpur:20251003T233000
DTSTAMP:20260422T144830
CREATED:20251001T070013Z
LAST-MODIFIED:20251001T070013Z
UID:2963-1759487400-1759534200@kghiliroya.nadi.my
SUMMARY:Wellbeing Webinar
DESCRIPTION:
URL:https://kghiliroya.nadi.my/event/wellbeing-webinar/
END:VEVENT
BEGIN:VEVENT
DTSTART;TZID=Asia/Kuala_Lumpur:20251004T080000
DTEND;TZID=Asia/Kuala_Lumpur:20251004T170000
DTSTAMP:20260422T144830
CREATED:20251001T071027Z
LAST-MODIFIED:20251001T071027Z
UID:2971-1759564800-1759597200@kghiliroya.nadi.my
SUMMARY:E-SPORT AWARENESS
DESCRIPTION:
URL:https://kghiliroya.nadi.my/event/e-sport-awareness/
LOCATION:NADI OYA\, NO 22 KG KUALA HILIR OYA\, DALAT\, Malaysia
END:VEVENT
BEGIN:VEVENT
DTSTART;TZID=Asia/Kuala_Lumpur:20251004T080000
DTEND;TZID=Asia/Kuala_Lumpur:20251004T170000
DTSTAMP:20260422T144830
CREATED:20251001T071107Z
LAST-MODIFIED:20251001T071107Z
UID:2973-1759564800-1759597200@kghiliroya.nadi.my
SUMMARY:WELLBEING - EXERCISE
DESCRIPTION:
URL:https://kghiliroya.nadi.my/event/wellbeing-exercise/
LOCATION:NADI OYA\, NO 22 KG KUALA HILIR OYA\, DALAT\, Malaysia
END:VEVENT
BEGIN:VEVENT
DTSTART;TZID=Asia/Kuala_Lumpur:20251004T150000
DTEND;TZID=Asia/Kuala_Lumpur:20251004T170000
DTSTAMP:20260422T144830
CREATED:20251001T070946Z
LAST-MODIFIED:20251001T070946Z
UID:2969-1759590000-1759597200@kghiliroya.nadi.my
SUMMARY:DILEA WEBINAR BERKALA - BAHASA ENGLISH
DESCRIPTION:
URL:https://kghiliroya.nadi.my/event/dilea-webinar-berkala-bahasa-english/
LOCATION:NADI OYA\, NO 22 KG KUALA HILIR OYA\, DALAT\, Malaysia
END:VEVENT
BEGIN:VEVENT
DTSTART;TZID=Asia/Kuala_Lumpur:20251005T080000
DTEND;TZID=Asia/Kuala_Lumpur:20251005T170000
DTSTAMP:20260422T144830
CREATED:20251003T020500Z
LAST-MODIFIED:20251003T020500Z
UID:2983-1759651200-1759683600@kghiliroya.nadi.my
SUMMARY:Awareness Webinar
DESCRIPTION:
URL:https://kghiliroya.nadi.my/event/awareness-webinar/
LOCATION:NADI OYA\, NO 22 KG KUALA HILIR OYA\, DALAT\, Malaysia
END:VEVENT
BEGIN:VEVENT
DTSTART;TZID=Asia/Kuala_Lumpur:20251006T150000
DTEND;TZID=Asia/Kuala_Lumpur:20251006T160000
DTSTAMP:20260422T144830
CREATED:20251003T020602Z
LAST-MODIFIED:20251003T020602Z
UID:2985-1759762800-1759766400@kghiliroya.nadi.my
SUMMARY:Open Tuition -Mathematics
DESCRIPTION:
URL:https://kghiliroya.nadi.my/event/open-tuition-mathematics/
LOCATION:NADI OYA\, NO 22 KG KUALA HILIR OYA\, DALAT\, Malaysia
END:VEVENT
BEGIN:VEVENT
DTSTART;TZID=Asia/Kuala_Lumpur:20251007T083000
DTEND;TZID=Asia/Kuala_Lumpur:20251007T230000
DTSTAMP:20260422T144830
CREATED:20251003T020732Z
LAST-MODIFIED:20251003T020732Z
UID:2989-1759825800-1759878000@kghiliroya.nadi.my
SUMMARY:Kempen Internet Selamat - SMK Oya
DESCRIPTION:
URL:https://kghiliroya.nadi.my/event/kempen-internet-selamat-smk-oya/
END:VEVENT
BEGIN:VEVENT
DTSTART;TZID=Asia/Kuala_Lumpur:20251007T093000
DTEND;TZID=Asia/Kuala_Lumpur:20251007T110000
DTSTAMP:20260422T144830
CREATED:20251003T020833Z
LAST-MODIFIED:20251003T020833Z
UID:2991-1759829400-1759834800@kghiliroya.nadi.my
SUMMARY:Kelas Mahir Jahit
DESCRIPTION:
URL:https://kghiliroya.nadi.my/event/kelas-mahir-jahit-2/
END:VEVENT
BEGIN:VEVENT
DTSTART;TZID=Asia/Kuala_Lumpur:20251007T150000
DTEND;TZID=Asia/Kuala_Lumpur:20251007T170000
DTSTAMP:20260422T144830
CREATED:20251003T020653Z
LAST-MODIFIED:20251003T020653Z
UID:2987-1759849200-1759856400@kghiliroya.nadi.my
SUMMARY:Open tuition - Bahasa Inggeris
DESCRIPTION:
URL:https://kghiliroya.nadi.my/event/open-tuition-bahasa-inggeris/
LOCATION:NADI OYA\, NO 22 KG KUALA HILIR OYA\, DALAT\, Malaysia
END:VEVENT
END:VCALENDAR