BEGIN:VCALENDAR
VERSION:2.0
PRODID:-//NADI Kg Hilir Oya - ECPv6.15.20//NONSGML v1.0//EN
CALSCALE:GREGORIAN
METHOD:PUBLISH
X-WR-CALNAME:NADI Kg Hilir Oya
X-ORIGINAL-URL:https://kghiliroya.nadi.my
X-WR-CALDESC:Events for NADI Kg Hilir Oya
REFRESH-INTERVAL;VALUE=DURATION:PT1H
X-Robots-Tag:noindex
X-PUBLISHED-TTL:PT1H
BEGIN:VTIMEZONE
TZID:Asia/Kuala_Lumpur
BEGIN:STANDARD
TZOFFSETFROM:+0800
TZOFFSETTO:+0800
TZNAME:+08
DTSTART:20240101T000000
END:STANDARD
END:VTIMEZONE
BEGIN:VEVENT
DTSTART;TZID=Asia/Kuala_Lumpur:20251101T080000
DTEND;TZID=Asia/Kuala_Lumpur:20251102T170000
DTSTAMP:20260424T231233
CREATED:20251031T080631Z
LAST-MODIFIED:20251031T080631Z
UID:3022-1761984000-1762102800@kghiliroya.nadi.my
SUMMARY:E-SPORT TOURNAMENT (GROUP STAGE)
DESCRIPTION:
URL:https://kghiliroya.nadi.my/event/e-sport-tournament-group-stage/
END:VEVENT
BEGIN:VEVENT
DTSTART;TZID=Asia/Kuala_Lumpur:20251122T100000
DTEND;TZID=Asia/Kuala_Lumpur:20251122T110000
DTSTAMP:20260424T231233
CREATED:20251121T021032Z
LAST-MODIFIED:20251121T021032Z
UID:3038-1763805600-1763809200@kghiliroya.nadi.my
SUMMARY:Bengkel Mahir Sumo Robot Sesi 5
DESCRIPTION:
URL:https://kghiliroya.nadi.my/event/bengkel-mahir-sumo-robot-sesi-5/
LOCATION:NADI OYA\, NO 22 KG KUALA HILIR OYA\, DALAT\, Malaysia
END:VEVENT
BEGIN:VEVENT
DTSTART;TZID=Asia/Kuala_Lumpur:20251122T113000
DTEND;TZID=Asia/Kuala_Lumpur:20251122T123000
DTSTAMP:20260424T231233
CREATED:20251121T021132Z
LAST-MODIFIED:20251121T021132Z
UID:3040-1763811000-1763814600@kghiliroya.nadi.my
SUMMARY:Bengkel Mahir IoT Inovasi Sesi 5
DESCRIPTION:
URL:https://kghiliroya.nadi.my/event/bengkel-mahir-iot-inovasi-sesi-5/
END:VEVENT
BEGIN:VEVENT
DTSTART;TZID=Asia/Kuala_Lumpur:20251129T090000
DTEND;TZID=Asia/Kuala_Lumpur:20251129T130000
DTSTAMP:20260424T231233
CREATED:20251128T013016Z
LAST-MODIFIED:20251128T013016Z
UID:3047-1764406800-1764421200@kghiliroya.nadi.my
SUMMARY:WEBINAR E-SUKAN
DESCRIPTION:
URL:https://kghiliroya.nadi.my/event/webinar-e-sukan/
LOCATION:NADI OYA\, NO 22 KG KUALA HILIR OYA\, DALAT\, Malaysia
END:VEVENT
BEGIN:VEVENT
DTSTART;TZID=Asia/Kuala_Lumpur:20251129T100000
DTEND;TZID=Asia/Kuala_Lumpur:20251129T230000
DTSTAMP:20260424T231233
CREATED:20251128T013111Z
LAST-MODIFIED:20251128T013111Z
UID:3049-1764410400-1764457200@kghiliroya.nadi.my
SUMMARY:KIDVENTURE WEBINAR- OPERASI PERNIAGAAN
DESCRIPTION:
URL:https://kghiliroya.nadi.my/event/kidventure-webinar-operasi-perniagaan/
LOCATION:NADI OYA\, NO 22 KG KUALA HILIR OYA\, DALAT\, Malaysia
END:VEVENT
BEGIN:VEVENT
DTSTART;TZID=Asia/Kuala_Lumpur:20251129T143000
DTEND;TZID=Asia/Kuala_Lumpur:20251129T170000
DTSTAMP:20260424T231233
CREATED:20251128T013148Z
LAST-MODIFIED:20251128T013148Z
UID:3051-1764426600-1764435600@kghiliroya.nadi.my
SUMMARY:GERAK GEMPUR SPM
DESCRIPTION:
URL:https://kghiliroya.nadi.my/event/gerak-gempur-spm/
LOCATION:NADI OYA\, NO 22 KG KUALA HILIR OYA\, DALAT\, Malaysia
END:VEVENT
END:VCALENDAR