BEGIN:VCALENDAR
VERSION:2.0
PRODID:-//NADI Kg Hilir Oya - ECPv6.15.20//NONSGML v1.0//EN
CALSCALE:GREGORIAN
METHOD:PUBLISH
X-WR-CALNAME:NADI Kg Hilir Oya
X-ORIGINAL-URL:https://kghiliroya.nadi.my
X-WR-CALDESC:Events for NADI Kg Hilir Oya
REFRESH-INTERVAL;VALUE=DURATION:PT1H
X-Robots-Tag:noindex
X-PUBLISHED-TTL:PT1H
BEGIN:VTIMEZONE
TZID:Asia/Kuala_Lumpur
BEGIN:STANDARD
TZOFFSETFROM:+0800
TZOFFSETTO:+0800
TZNAME:+08
DTSTART:20250101T000000
END:STANDARD
END:VTIMEZONE
BEGIN:VEVENT
DTSTART;TZID=Asia/Kuala_Lumpur:20260122T100000
DTEND;TZID=Asia/Kuala_Lumpur:20260122T110000
DTSTAMP:20260421T124741
CREATED:20260121T080921Z
LAST-MODIFIED:20260121T080921Z
UID:3123-1769076000-1769079600@kghiliroya.nadi.my
SUMMARY:E Kelas Modul 2: Asas Visual Komunikasi
DESCRIPTION:
URL:https://kghiliroya.nadi.my/event/e-kelas-modul-2-asas-visual-komunikasi/
END:VEVENT
BEGIN:VEVENT
DTSTART;TZID=Asia/Kuala_Lumpur:20260122T150000
DTEND;TZID=Asia/Kuala_Lumpur:20260122T170000
DTSTAMP:20260421T124741
CREATED:20260121T081054Z
LAST-MODIFIED:20260121T081054Z
UID:3127-1769094000-1769101200@kghiliroya.nadi.my
SUMMARY:CYBERSECURITY SIRI CYBER HYGIENCE - Asas Keselamatan Siber
DESCRIPTION:
URL:https://kghiliroya.nadi.my/event/cybersecurity-siri-cyber-hygience-asas-keselamatan-siber/
END:VEVENT
BEGIN:VEVENT
DTSTART;TZID=Asia/Kuala_Lumpur:20260122T153000
DTEND;TZID=Asia/Kuala_Lumpur:20260122T163000
DTSTAMP:20260421T124741
CREATED:20260121T081016Z
LAST-MODIFIED:20260121T081016Z
UID:3125-1769095800-1769099400@kghiliroya.nadi.my
SUMMARY:OPEN TUITION DILEA BM TING 1 - 5
DESCRIPTION:
URL:https://kghiliroya.nadi.my/event/open-tuition-dilea-bm-ting-1-5/
END:VEVENT
BEGIN:VEVENT
DTSTART;TZID=Asia/Kuala_Lumpur:20260123T080000
DTEND;TZID=Asia/Kuala_Lumpur:20260123T170000
DTSTAMP:20260421T124741
CREATED:20260121T081143Z
LAST-MODIFIED:20260121T081143Z
UID:3129-1769155200-1769187600@kghiliroya.nadi.my
SUMMARY:RAKAMAN WEBINAR: PERANCANGAN KEWANGAN
DESCRIPTION:
URL:https://kghiliroya.nadi.my/event/rakaman-webinar-perancangan-kewangan/
END:VEVENT
BEGIN:VEVENT
DTSTART;TZID=Asia/Kuala_Lumpur:20260124T100000
DTEND;TZID=Asia/Kuala_Lumpur:20260124T113000
DTSTAMP:20260421T124741
CREATED:20260121T081231Z
LAST-MODIFIED:20260121T081231Z
UID:3131-1769248800-1769254200@kghiliroya.nadi.my
SUMMARY:KIDPRENEUR WEBINAR:  PELAN PERNIAGAAN MINI 2
DESCRIPTION:
URL:https://kghiliroya.nadi.my/event/kidpreneur-webinar-pelan-perniagaan-mini-2/
END:VEVENT
BEGIN:VEVENT
DTSTART;TZID=Asia/Kuala_Lumpur:20260126T153000
DTEND;TZID=Asia/Kuala_Lumpur:20260126T170000
DTSTAMP:20260421T124741
CREATED:20260121T081338Z
LAST-MODIFIED:20260121T081338Z
UID:3133-1769441400-1769446800@kghiliroya.nadi.my
SUMMARY:OPEN TUITION DILEA SEJARAH TINGKATAN 1 - 5
DESCRIPTION:
URL:https://kghiliroya.nadi.my/event/open-tuition-dilea-sejarah-tingkatan-1-5/
END:VEVENT
END:VCALENDAR